BEGIN:VCALENDAR
VERSION:2.0
PRODID:-//Squarespace Inc/Squarespace 6//v6//EN
BEGIN:VEVENT
UID:5c49273270a6ad721e5809a9@squarespace.com
DTSTAMP:20190129T225234Z
DTSTART:20190505T020000Z
DTEND:20190505T063000Z
SUMMARY:Hooves and Hounds Festival
END:VEVENT
END:VCALENDAR
