BEGIN:VCALENDAR
VERSION:2.0
PRODID:-//Squarespace Inc/Squarespace 6//v6//EN
BEGIN:VEVENT
UID:5c4921c4b91443657798418b@squarespace.com
DTSTAMP:20190130T230359Z
DTSTART:20190420T000000Z
DTEND:20190420T010000Z
SUMMARY:Up2Date Art Challenge
END:VEVENT
END:VCALENDAR
