BEGIN:VCALENDAR
VERSION:2.0
PRODID:-//Squarespace Inc/Squarespace 6//v6//EN
BEGIN:VEVENT
UID:5c4f918388251bb7f8e68578@squarespace.com
DTSTAMP:20190129T230029Z
DTSTART:20190412T030000Z
DTEND:20190414T080000Z
SUMMARY:Ardlethan Country Music Festival and Talent Quest
END:VEVENT
END:VCALENDAR
