BEGIN:VCALENDAR
VERSION:2.0
PRODID:-//Squarespace Inc/Squarespace 6//v6//EN
BEGIN:VEVENT
UID:5c47ee134ae23759d4d873cf@squarespace.com
DTSTAMP:20190123T044052Z
DTSTART:20190301T220000Z
DTEND:20190302T040000Z
SUMMARY:Coolamon Antique Bottle and Collectables Fair
END:VEVENT
END:VCALENDAR
