BEGIN:VCALENDAR
VERSION:2.0
PRODID:-//Squarespace Inc/Squarespace 6//v6//EN
BEGIN:VEVENT
UID:5c4f8eda21c67c18ffe119a2@squarespace.com
DTSTAMP:20190128T232341Z
DTSTART:20190504T233000Z
DTEND:20190505T023000Z
SUMMARY:Sewing Classes
END:VEVENT
END:VCALENDAR
