BEGIN:VCALENDAR
VERSION:2.0
PRODID:-//Squarespace Inc/Squarespace 6//v6//EN
BEGIN:VEVENT
UID:5c48fbd4c74c50236936b8f2@squarespace.com
DTSTAMP:20190130T004038Z
DTSTART:20190302T073000Z
DTEND:20190302T123000Z
SUMMARY:The Long Table Charity Event
END:VEVENT
END:VCALENDAR
