BEGIN:VCALENDAR
VERSION:2.0
PRODID:-//Squarespace Inc/Squarespace 6//v6//EN
BEGIN:VEVENT
UID:5c3fc9811ae6cf056f479e26@squarespace.com
DTSTAMP:20190123T025144Z
DTSTART:20190329T220000Z
DTEND:20190330T020000Z
SUMMARY:Ian Lucas Memorial Bike &amp\; Hike
END:VEVENT
END:VCALENDAR
